BEGIN:VCALENDAR
VERSION:2.0
PRODID:-//HVL Patenschaften AMSOC e.V. - ECPv6.15.20//NONSGML v1.0//EN
CALSCALE:GREGORIAN
METHOD:PUBLISH
X-WR-CALNAME:HVL Patenschaften AMSOC e.V.
X-ORIGINAL-URL:https://hvl-patenschaften.de
X-WR-CALDESC:Veranstaltungen für HVL Patenschaften AMSOC e.V.
REFRESH-INTERVAL;VALUE=DURATION:PT1H
X-Robots-Tag:noindex
X-PUBLISHED-TTL:PT1H
BEGIN:VTIMEZONE
TZID:Europe/Berlin
BEGIN:DAYLIGHT
TZOFFSETFROM:+0100
TZOFFSETTO:+0200
TZNAME:CEST
DTSTART:20240331T010000
END:DAYLIGHT
BEGIN:STANDARD
TZOFFSETFROM:+0200
TZOFFSETTO:+0100
TZNAME:CET
DTSTART:20241027T010000
END:STANDARD
BEGIN:DAYLIGHT
TZOFFSETFROM:+0100
TZOFFSETTO:+0200
TZNAME:CEST
DTSTART:20250330T010000
END:DAYLIGHT
BEGIN:STANDARD
TZOFFSETFROM:+0200
TZOFFSETTO:+0100
TZNAME:CET
DTSTART:20251026T010000
END:STANDARD
BEGIN:DAYLIGHT
TZOFFSETFROM:+0100
TZOFFSETTO:+0200
TZNAME:CEST
DTSTART:20260329T010000
END:DAYLIGHT
BEGIN:STANDARD
TZOFFSETFROM:+0200
TZOFFSETTO:+0100
TZNAME:CET
DTSTART:20261025T010000
END:STANDARD
END:VTIMEZONE
BEGIN:VEVENT
DTSTART;TZID=Europe/Berlin:20250913T130000
DTEND;TZID=Europe/Berlin:20250913T180000
DTSTAMP:20260423T221817
CREATED:20250803T133442Z
LAST-MODIFIED:20250912T143105Z
UID:71-1757768400-1757786400@hvl-patenschaften.de
SUMMARY:Stadtfest Falkensee
DESCRIPTION:Wir sind dabei beim Falkenseer Stadtfest! 🎉\nAm Samstag\, den 13. September 2025\, sind wir ab 13:00 Uhr als Aussteller auf dem Vereinstag mit Party auf dem Campusplatz in Falkensee vertreten. \nVier Tage lang – vom 11. bis 14. September – verwandelt sich Falkensee zum 30. Mal in eine bunte Festmeile: Essen\, Musik\, Kultur und jede Menge Begegnungen mit Menschen aus der Region. Als Teil dieser lebendigen Gemeinschaft freuen wir uns\, Sie an unserem Stand zu begrüßen! \nWas Sie bei uns erwartet:\n\n\nEin freundliches Team\, das Ihnen unsere Arbeit vorstellt – inklusive Einblick in unsere Patenschaftsprogramme im Havelland \n\n\nInformationen\, wie wir gemeinsam mit Ihnen Kinder\, Familien oder Projekte unterstützen können \n\n\nGute Gespräche über Engagement\, Chancen und Zukunft – und vielleicht ein kleines Give-away für Sie 😉 \n\n\nHighlights auf dem Campusplatz:\n\n\n13–18 Uhr: Familienprogramm mit Kinderfest vom KiKuK\, Musik\, Live-Auftritten und Spiel & Spaß \n\n\nAb 18 Uhr: Partynacht mit regionaler Stimmung – u. a. Live-Bands wie Safe in Sound & The Busketiers bringen den Platz zum Tanzen \n\n\nSeien Sie dabei\, informieren Sie sich\, plaudern Sie mit uns – oder tragen Sie sich gleich ein\, wenn Sie neugierig sind\, wie Patenschaften helfen können. Wir freuen uns auf Sie!
URL:https://hvl-patenschaften.de/termin/stadtfest-falkensee/
LOCATION:Campusplatz\, Falkensee\, Campusplatz\, Falkensee\, Brandenburg\, 14612\, Germany
CATEGORIES:Gemeinsam feiern & begegnen
ATTACH;FMTTYPE=image/jpeg:https://hvl-patenschaften.de/wp-content/uploads/2025/08/hangelampen-im-outdoor-restaurant-mit-mehreren-besuchern-im-hintergrund-bbq.webp
ORGANIZER;CN="Havelland Partenschaften AMSOC e.V.":MAILTO:kontakt@hvl-patenschaften.de
END:VEVENT
BEGIN:VEVENT
DTSTART;TZID=Europe/Berlin:20250927T110000
DTEND;TZID=Europe/Berlin:20250927T160000
DTSTAMP:20260423T221817
CREATED:20250912T050237Z
LAST-MODIFIED:20250912T142910Z
UID:550-1758970800-1758988800@hvl-patenschaften.de
SUMMARY:Tag der Vereine in Rathenow
DESCRIPTION:Wir sind dabei: beim Tag der Vereine am 27. September in Rathenow! 🎉\nSie finden uns von 11 bis 16 Uhr auf dem Märkischen Platz in Rathenow\, wenn der Landkreis Havelland zum 4. Tag der Vereine einlädt. Eine bunte Bühne für die Vielfalt unserer Region – voller Engagement\, Begegnung und Möglichkeiten. \nWas Sie bei uns erwartet:\n\n\nUnser Team\, das Ihnen unsere Patenschaftsprogramme im Havelland vorstellt \n\n\nHerzliche Gespräche darüber\, wie wir gemeinsam Kinder und Familien fördern können \n\n\nInspirationen zu Engagement\, Unterstützung und Teilhabe\, die direkt bei uns in der Region beginnen \n\n\nWarum dieser Tag zählt:\n\n\nEine starke Gelegenheit für Sie\, uns persönlich kennenzulernen \n\n\nSie entdecken viele weitere Projekte aus Sport\, Kultur\, Soziales\, Umwelt & Co. – so zeigt sich Zusammenhalt im Landkreis \n\n\nWir freuen uns auf Begegnungen mit Ihnen: Informieren Sie sich\, stellen Sie Fragen oder sagen Sie direkt: „Ich möchte mitmachen!“ \nKommen Sie vorbei – wir freuen uns auf Sie!
URL:https://hvl-patenschaften.de/termin/tag-der-vereine-rathenow/
LOCATION:Märkischer Platz\, Rathenow\, Märkischer Platz\, Rathenow\, Brandeburg\, 14712\, Germany
CATEGORIES:Gemeinsam feiern & begegnen
ATTACH;FMTTYPE=image/jpeg:https://hvl-patenschaften.de/wp-content/uploads/2025/08/hangelampen-im-outdoor-restaurant-mit-mehreren-besuchern-im-hintergrund-bbq.webp
END:VEVENT
END:VCALENDAR